BEGIN:VCALENDAR
VERSION:2.0
PRODID:spatie/icalendar-generator
BEGIN:VEVENT
UID:700e244b-35dd-42ff-8aff-d007c13e23e9
DTSTAMP:20260420T090503Z
SUMMARY:Çiğdem Aslan Ensemble (Türkei)
DESCRIPTION:\"...A rising star and a truly sublime singer of rebetika\" (Lo
 ndon Evening Standard)\nÇiğdem Aslan hat mit ihrem Debüt \"Mortissa\" 2
 013 einen fulminanten Startschuss für eine Solokarriere abgefeuert: Die P
 latte\, randvoll mit poesiegeladenem Rembetiko/Smyrneika\, wurde vom briti
 schen Magazin Songlines zum \"Album Of The Year 2013\" gekürt und im selb
 en Jahr als bestes Album für den fRoots Critics Poll des gleichnamigen Ma
 gazins nominiert. Die lebhafte Sängerin ist die neue Stimme des jüngsten
  Rembetiko-Revivals. Sie lässt die bittersüßen Lieder aus den verruchte
 n Spelunken und \"Café Amans\" vom Athen und Istanbul der 1920er Jahre ku
 nstvoll wiederauferstehen.\nGanz den Ursprüngen folgend - Rembetiko entst
 and durch den kulturellen Austausch von Griechen und Türken - singt Çiğ
 dem Aslan sowohl in Türkisch als auch in Griechisch. Das begleitende Ense
 mble ist mit Kanun\, Gitarre\, Bouzouki\, Geige\, Klarinette\, orientalisc
 her Perkussion und Kontrabass exzellent besetzt. Çiğdem wuchs unweit des
  Taksim Platzes als Tochter alevitischer Kurden auf und zog vor wenigen Ja
 hren nach London. Das Leben in Istanbul als Teil einer ethnischen Minderhe
 it und später dann als Immigrantin in Großbritannien sowie ihre Rolle in
  diesem von vor allem Männern dominierten Genre ermöglichen Ciğdem Asla
 n eine frische Herangehensweise. Im Fokus der stimmungsvollen Konzerte ste
 ht Çiğdems anmutige und gefühlvolle Stimme\, die dem Publikum die Türe
 n zu den alten Liedern aus turbulenten Zeiten an der Ägäis öffnet. So z
 ieht es einen unweigerlich in die Kneipen von Thessaloniki und Izmir.\n\n
 Çiğdem ASLAN - Gesang\nNikolaos BAIMPAS - Kanun\nMichalis KOULOUMIS - Vi
 oline\nPaul TKACHENKO - Kontrabass\nVasilis SARIKIS - Perkussion\nIn Kopro
 duktion mit Salam Orient
LOCATION:
DTSTART:20141016T200000
DTEND:20141016T210000
END:VEVENT
END:VCALENDAR