BEGIN:VCALENDAR
VERSION:2.0
PRODID:spatie/icalendar-generator
BEGIN:VEVENT
UID:6e8ae303-c71a-451d-8862-28594a30cc0c
DTSTAMP:20260423T040957Z
SUMMARY:Albin Paulus Pur / Schrammelbach (A)
DESCRIPTION:Albin Paulus solo – urneue Klänge aus dem PaläoplastikumAus
 nahme-Sounds in rasanter One-Man-Show von Jodlern bis Weltmusik\, Acoustic
  Techno und Alter Musik. Der international prämierte Dudelsackspieler\, M
 aultrommel-Weltvirtuose\, Experimental-Jodler\, Stimmakrobat\, Komponist u
 nd Wortspieldichter Albin Paulus ergründet in seinem neuen Solo den Urspr
 ung des musikalischen Klanges. Von dort leitet er ihn in ungeahntes Neulan
 d: von der Stimme als unmittelbarster Ausdruck über die Maultrommel als i
 ntimes Klang-Wunderding bis zu neu kreierten Jenseits-dieser-Welt-Instrume
 nten inklusive Bodyperkussion. Derart führt er in einer energiegeladenen 
 One-Man-Show augenzwinkernd alle Hörgewohnheiten ad absurdum.\n\nAlbin Pa
 ulus - Stimme (Jodeln/Obertongesang)\, Maultrommel\, Dudelsack\, Eigenkrea
 tionen (Wobblephone©\, Paulus-Vocator) u.a.\n\nSchrammelbachWelche Invent
 ionen hätte Johann Sebastian Bach wohl noch gehabt\, wenn er in Wien beim
  Heurigen ein Achterl zu viel erwischt hätte? Hat Bach vielleicht ohnehin
  „Heurigenmusik“ komponiert? Hätte Johann Schrammel vielleicht insgeh
 eim gerne so komponiert wie sein barocker Kollege? Den heiligen Bach mit W
 iener Schmäh nehmen?\n\nAll diese Fragen stellen sich die umtriebigen Mus
 iker Peter Hudler und Andreas Teufel und beantworten sie musikalisch am Vi
 oloncello und am traditionellen Wiener Knopfakkordeon\, der Schrammelharmo
 nika. Entstanden ist ein Quodlibet aus verschrammeltem Bach und båchanem 
 Schrammel\, aus Bachpräludien und Schrammelfugen\, von Altwiener-Tanz-Sui
 ten bis hin zu satirisch Sakralem\, wobei sogar H. C. Artmann und J. S. Ba
 ch zueinander finden. Es gibt viele Bach-Crossovers – aber nur einen Sch
 rammelBach…\n\nPeter Hudler - Violoncello\, Stimme\, Andreas Teufel - Sc
 hrammelharmonika\, Stimme\n\nhttps://www.albinpaulus.com/\nhttps://www.sch
 rammelbach.at/
LOCATION:
DTSTART:20231215T193000
DTEND:20231215T203000
END:VEVENT
END:VCALENDAR