BEGIN:VCALENDAR
VERSION:2.0
PRODID:spatie/icalendar-generator
BEGIN:VEVENT
UID:6beeb480-c1e3-4fa8-a683-7d2b8d2acbaa
DTSTAMP:20260420T090931Z
SUMMARY:Nigun (Ungarn)
DESCRIPTION:Eintritt: € 20 / erm. € 12\n\nIn einer der vielen\, vielen 
 Jubelkritiken\, die seit der Gründung von Nigun im Jahr 2001 über die Ko
 nzerte der Band geschrieben wurde\, heißt es: „Vigorous start\, incrded
 ible solos\, abatement\, and then back to the basics.“ Was nichts andere
 s heißt als: Von Anfang volle Kraft voraus\, kurze Pause und dann ’ran 
 ans Eingemachte!“\n\nDas Eingemachte\, das könnten jene Musiken sein\, 
 auf die sich Nigun beziehen: Jazz ist die eine Kraftquelle\, die andere is
 t Klezmer in seiner speziellen osteuropäischen Spielart. Will man ihre Mu
 sik nun deswegen als „Klez-Jazz“ bezeichnen\, trifft das allerdings nu
 r den halben Spaß. Denn letztendlich spielt Nigun auch mit den Emotionen\
 , den innersten Kraftquellen aller\, die sie hören. Kein Wunder\, dass si
 e in nahezu allen europäischen Ländern und sogar in den USA vor begeiste
 rtem Publikum aufgetreten sind. Mehr noch\, Jazz-Avantgardisten wie John Z
 orn und Don Byron luden sie ebenso zum gemeinsamen Spiel ein wie Frank Lon
 don von den Klezmatics.\nEinen Wirbelwind an Emotionen\, an kreativer Entf
 esselung ihrer musikalischen Wurzeln in Jazz\, Klezmer\, ungarischer Folkl
 ore und Rock-Einflüssen\, zu entfachen\, das ist Sache von Nigun. Sich da
 von hinwegtragen zu lassen\, das ist Sache des Publikums. Wenn beides zusa
 mmen passt\, dürfte man hinterher ebenso voll des Jubels sein wie die zah
 lreichen Besucher ihrer Konzerte\, die mit Jubelkritiken nicht sparten.\n\
 nAndras Parniczky - Gitarre\nPeter Bede - Saxophon\nPeter Ajtai - Kontraba
 ss\nIstvan Balo - Schlagzeug\n\nIn Koproduktion mit KlezMore 2015\nMit fre
 undlicher Unterstützung von NKA
LOCATION:
DTSTART:20151117T200000
DTEND:20151117T210000
END:VEVENT
END:VCALENDAR