BEGIN:VCALENDAR
VERSION:2.0
PRODID:spatie/icalendar-generator
BEGIN:VEVENT
UID:62de8e53-ec91-4f74-8301-879e2bcfaedf
DTSTAMP:20260420T093920Z
SUMMARY:Kroke (Polen)
DESCRIPTION:Eintritt: € 29\n\n„Mit Geige\, Akkordeon\, Bass und vereinz
 elt programmatischem Einsatz von Drums-Sampling wird präzise und dennoch 
 mit ungeheurer Tiefe an Emotionen die Essenz der alten jüdischen Musik ex
 trahiert. So intensiv\, als würde man dem offenen Herz des Klezmers beim 
 Schlagen zusehen\" (Rolling Stone). Das Trio Kroke sprengt den Rahmen trad
 itioneller Klezmer-Musik mit Leidenschaft und großer Spielfreude. Ihre mu
 sikalische Identität liegt in der jiddischen Folklore-Tradition\, versetz
 t mit Elementen aus Jazz- und Klassik. Die Stücke sind Zuhör- und Ereign
 ismusik — wer lauscht\, dem werden Geschichten erzählt!\n\nTomasz Kukur
 ba – Violine\, Viola\, Gesang\, Perkussion\, Tomasz Lato – Kontrabass\
 , Jerzy Bawoł – Akkordeon\n\nIn Koproduktion mit [KlezMore Festival 201
 8](http://klezmore-vienna.at/)\nMit freundlicher Unterstützung von [Polni
 sches Institut Wien](http://www.polnisches-institut.at/)
LOCATION:
DTSTART:20181115T193000
DTEND:20181115T203000
END:VEVENT
END:VCALENDAR