BEGIN:VCALENDAR
VERSION:2.0
PRODID:spatie/icalendar-generator
BEGIN:VEVENT
UID:60df7829-9b8e-4fc4-8907-7b3e0d8b4a16
DTSTAMP:20260420T091816Z
SUMMARY:DJIVAN GASPARYAN (Armenien): Das Konzert zum 80er
DESCRIPTION:Djivan GASPARYAN - Duduk\, Gesang Armen GHAZARYAN - Duduk\, Bas
 sduduk Vazgen MAKARYAN - Duduk Der erdig-warme Klang der kleinen Aprikosen
 holzoboe Duduk geht seit Jahrzehnten um die Welt. Der Armenier Djivan Gasp
 aryan ist der große Meister dieser seelenvollen Musik\, seine außergewö
 hnliche Faszination überschreitet kulturelle\, staatliche und stilistisch
 e Grenzen. Beim Versuch\, dieses schwer greifbare Phänomen eines Ausnahme
 musikers in Worte zu fassen\, tauchen immer wieder Begriffe wie \"Zauber\"
  und \"Magie\" auf. So verwundert es nicht\, dass Gasparyan in seinem nunm
 ehr 60 Jahre währenden Erfolg in allen Metropolen gastierte und mit natio
 nalen und internationalen Auszeichnungen überhäuft wurde. Viele MusikerI
 nnen luden ihn zu gemeinsamen Aufnahmen u.a. das Kronos Quartett\, Pop-Iko
 nen wie Peter Gabriel und Sting\, der Jazzsaxophonist Branford Marsalis\, 
 Queen-Gitarrist Brian May\, Brian Eno oder auch Harfenist Andreas Vollenwe
 ider. Häufig wurde er nach Hollywood eingeladen\, um Filmmusiken einzuspi
 elen wie etwa für \"Gladiator\"\, \"Dead Man Walking\"\, \"The Crow\" ode
 r \"Das Russlandhaus\". Heuer im Oktober feiert Gasparyan seinen 80. Gebur
 tstag und als tiefe Verbeugung vor einem der großartigsten Musiker des Er
 dballs haben wir weder Kosten noch Mühen gescheut und ihn zu einem \"Sond
 erkonzert\" zu uns in die SARGFABRIK eingeladen. In Koproduktion mit Salam
  Orient Foto: Eva Scalla [Hörprobe](../docs/veranstaltungen/sounds/0809/t
 rack09.swf) [(Hier gibt es den Adobe Flash Player als Gratisdownload)](htt
 p://www.adobe.com/de/products/flashplayer) ACHTUNG: NUR MEHR RESTKARTEN AN
  STEHPLÄTZEN IM VORVERKAUF! (€ 24)
LOCATION:
DTSTART:20081015T200000
DTEND:20081015T210000
END:VEVENT
END:VCALENDAR