BEGIN:VCALENDAR
VERSION:2.0
PRODID:spatie/icalendar-generator
BEGIN:VEVENT
UID:5dc1a282-5152-4052-a7f5-684e2f8f9dcc
DTSTAMP:20260420T091118Z
SUMMARY:TootArd (Golanhöhen)
DESCRIPTION:Eintritt: € 25\n\nDie junge Band TootArd von den Golanhöhen 
 ist mit ihrer ansteckenden Musik wegweisend für eine ganze Generation. Mi
 t ihrem aktuellen Album „Laissez Passer“\, erschienen auf dem renommie
 rten Label Glitterbeat und überhaupt die erste internationale Veröffentl
 ichung aus ihrer Heimat\, sorgen sie derzeit in Europa für Aufhorchen. To
 otArd haben ihren ganz eigenen\, identitätsstiftenden Sound gefunden und 
 verschmelzen geschickt Wüsten-Blues\, melodischen Psych-Rock\, Reggae-Ein
 flüsse und klassisch-arabische Klänge miteinander. Gitarrist und Sänger
  Hasan Nakleheh\, der gemeinsam mit seinem Bruder die Band gründete\, bez
 eichnet ihre Musik sehr passend als „Mountain Rock“\, kommen die Musik
 er doch allesamt aus dem Bergdorf Majdal Sham. Ihre Musik\, die mehr optim
 istisch als melancholisch klingt\, sehen sie als Ausdrucksmittel für die 
 ironische Realität\, aus der sie kommen. Der Albumtitel „Laissez Passer
 “ (Passieren lassen) bezeichnet das Dokument\, das die staatenlosen Bewo
 hnerInnen der Golanhöhen tragen\, seit das syrische Gebiet 1967 von Israe
 l besetzt wurde. Für die Mitglieder von TootArd\, die offiziell keiner Na
 tionalität angehören und keinen Pass besitzen\, bedeutet die Musik grenz
 enlose Freiheit\, die ihnen ein Gefühl von Zugehörigkeit gibt.\n\nRami N
 akhleh - Schlagzeug\, Electronics\, Gesang\, Amer Mdah Saxophone\, Percuss
 ion\, Gesang\, Hasan Nakhleh - E-Gitarre\, Keyboard\, Gesang\n\nIn Koprodu
 ktion mit [Salam Orient](http://www.salam-orient.at/)\nHinweis: begrenzte 
 Sitzplätze
LOCATION:
DTSTART:20181018T193000
DTEND:20181018T203000
END:VEVENT
END:VCALENDAR