BEGIN:VCALENDAR
VERSION:2.0
PRODID:spatie/icalendar-generator
BEGIN:VEVENT
UID:5ad4c21a-4b9d-4e11-aff8-48fb2a532873
DTSTAMP:20260421T083323Z
SUMMARY:Jaakko Laitinen & Väärä Raha (Finnland)
DESCRIPTION:Eintritt: € 27\n\nGypsy Soul\, Russische Romanzen\, Humppa un
 d Finnischer Tango mit jeder Menge Charme und Hingabe. Die Musiker von Jaa
 kko Laitinen & Väärä Raha kommen aus Lappland – ihre Musik ist ein
 e ganz eigenwillige und einzigartige Melange. Mit Trompete\, Bouzouki\, Ak
 kordeon\, Kontrabass und vor allem dem schmissigen Gesang von Bandleader J
 aakko Laitinen versprühen die fünf Finnen die entfesselnde Kraft glü
 hender Emotionen auf der Bühne. Ihre reizvollen Lieder und Tänze hande
 ln von Liebe\, bitterer Schönheit\, der Endlichkeit des Seins\, von Erin
 nerungen\, Hoffnung.\n\nJaakko Laitinen – Gesang\, Ilkka Arola – Tromp
 ete\, Buzuki\, Marko Roininen – Akkordeon\, Tuomo Kuure – Bass\, Janne
  Hast – Schlagzeug\n\nIn Koproduktion mit [Akkordeon Festival 20](http:/
 /akkordeonfestival.at/#data_abonnement=-1&data_year=2019&data_event_catego
 ry=-1&searchTerm=&data_mode=DATE&data_pagenumber=0&page_header=2019)
LOCATION:
DTSTART:20200303T193000
DTEND:20200303T203000
END:VEVENT
END:VCALENDAR