BEGIN:VCALENDAR
VERSION:2.0
PRODID:spatie/icalendar-generator
BEGIN:VEVENT
UID:5076020d-51a6-4ca2-b0cb-64cfb60c750b
DTSTAMP:20260420T122735Z
SUMMARY:Linda Partaj & Litha: Finissage & Konzert
DESCRIPTION:Eintritt: Freie Spende\n\nDie letzte Chance\, die Solo-Ausstell
 ung von Linda Partaj im Foyer der Sargfabrik zu sehen! Dazu gibt es ein Li
 ve-Konzert mit Album Release: Litha \"Good Girl\"\n\nBeginn Finissage: 19 
 Uhr\nKonzertbeginn: 20 Uhr\n\nIm Fokus von Linda Partaj ́s Arbeit steht d
 er Mensch in seiner figürlichen Gestalt\, jedoch werden diese Charaktere 
 zu Projektionsflächen für Erlebnisse und Gefühle - wie Angst\, Schmerz 
 und Trauer. Mit ihrer Arbeit möchte sie solch starken Emotionen ebenso Ra
 um bieten und diese im gesellschaftlichen Kontext legitimieren.\n\nDie Bil
 dsujets wachsen heran zu manifestierten Gefühlswelten. Der Blick wandert 
 durch das Bild\, landet auf Gesichtern und Figuren\, wechselt zwischen abs
 trakten und detaillierten figurativen Sphären\, erkennt konkrete Körper 
 und verliert sich dann wieder in den sich überlagernden Linien und Formen
 . Die Figuren schweben im Raum\, sie setzen sich ab\, werden festgehalten 
 und lösen sich langsam wieder auf\, so wie du und ich.\n\nDie Darstellung
  von Menschen wird zu einer Gefühlslandschaft\, in welcher man sich wiede
 rfinden kann.\n\nAnhand teils autobiografischer Erlebnisse analysiert Lind
 a Partaj das komplexe Wechselspiel zwischen momentaner Existenz\, emotiona
 l wahrgenommener Realität und der Vergänglichkeit des Lebens.\n\n[Painti
 ng - Linda Partaj Portfolio](https://lindapartaj.at/)\n\n_________________
 ____________________\n\nLisa Lurger aka LITHA veröffentlicht mit Good Gir
 l ein kompromissloses Debütalbum\, auf dem sich die niederösterreichisch
 e Künstlerin kein Blatt vor den Mund nimmt. Anfeindungen\, Demütigungen 
 und Übergriffe auf verschiedensten Ebenen werden auf dem im November 2024
  erscheinenden Album ebenso thematisiert wie stille Geburt und Mutterschaf
 t. Auf 11 Songs\, produziert von Andreas Lettner\, zeigt die Künstlerin\,
  dass sie eine der spannendsten neuen Stimmen der österreichischen Musiks
 zene ist und alles andere als ein „Good Girl“. Damit liefert LITHA nac
 h der Single Into thin air ein heiß ersehntes Debütalbum\, das sich sehe
 n und hören lassen kann.\n\nLITHA - Stimme\, Jay Choma - Stimme\, Bass-Sy
 nthesizer\, Gitarre\, Manu Diem - Stimme\, Synthesizer\, Lan Sticker - Sch
 lagzeug\n\nhttps://www.lithaalloveryou.com\nhttps://www.instagram.com/lith
 a.alloveryou/
LOCATION:
DTSTART:20250129T190000
DTEND:20250129T200000
END:VEVENT
END:VCALENDAR