BEGIN:VCALENDAR
VERSION:2.0
PRODID:spatie/icalendar-generator
BEGIN:VEVENT
UID:4d6f51b5-408d-4179-b011-8898fd5145a9
DTSTAMP:20260421T193855Z
SUMMARY:Klaus Paier Trio (Österreich): Dragonfly - CD-Präsentation
DESCRIPTION:\"In den Kompositionen von Klaus Paier finden sich all jene Ein
 flüsse und Stilelemente wieder\, mit denen sich der Akkordeonist im Laufe
  seiner bisherigen Karriere auseinandergesetzt hat: Die komplexe Spontanei
 tät des Jazz\, die temperamentvolle Leidenschaft des Tango Nuevo\, das di
 sziplinierte Moment europäischer Klassik\, die vielschichtige Tradition e
 uropäischer Volksmusik. Mit einer geradezu selbstverständlichen Hingabe 
 lotet er die verschiedenen Facetten dieser Musik lustvoll aus.\" (Jörg Ko
 nrad) Die Besetzung Akkordeon/Bass/Schlagzeug ist dabei eine eher selten a
 nzutreffende Kombination von Instrumenten. Doch seit vielen Jahren erweise
 n sich Stefan Gfrerrer und Roman Werni dabei als unglaublich sichere musik
 alische Begleiter und ausgewiesene Solisten in Personalunion. Die drei bil
 den eine in sich ruhende Band\, die durch Geschlossenheit besticht. Ihre k
 ammermusikalisch dichte Interaktion trägt die Musik - mal filigran und fr
 agmentarisch\, dann wieder üppig und rauschhaft - in eine vollkommen zeit
 fremde Atmosphäre. Für die CDs \"Movimiento\" und \"Live\" wurde das Kla
 us Paier Trio für den Amadeus Award nominiert. An dem Abend wird zudem di
 e DVD \"on stage back stage\" präsentiert.\n\nKlaus PAIER - Akkordeon\, B
 andoneon\nStefan GFRERRER - Bass\nRoman WERNI - Schlagzeug\, Perkussion\n\
 nIn Koproduktion mit 11. internationales Akkordeon Festival
LOCATION:
DTSTART:20100318T200000
DTEND:20100318T210000
END:VEVENT
END:VCALENDAR