BEGIN:VCALENDAR
VERSION:2.0
PRODID:spatie/icalendar-generator
BEGIN:VEVENT
UID:4771d32b-205d-4d98-abc2-945fd3e1c974
DTSTAMP:20260424T094927Z
SUMMARY:Lange Nacht der Weltmusik: mit JÜTZ\, Orwa Saleh Ensemble und Garu
 fa!
DESCRIPTION:Eintritt: € 27 / € 19 (U30)\n\nJÜTZ (Österreich\, Schwei
 z)\n\nSÜSSE STILLE - Natürliche Musik für die stille Zeit.\nDas Schweiz
 -Tirolerische Ensemble Jütz setzt sich zum Ziel\, mit eigener Stimme\, Na
 türlichkeit und Ehrlichkeit zu musizieren. Nach drei Alben auf Bauer (Neu
 klang\, Chaos) und dem international erfolgreichen Experimentalfilm » Piz
  Regolith « wendet sich das mehrfach preisgekrönte Ensemble den leisen K
 längen des Winters zu.\nDie Stimmung des neuen Albums: es ist Musik für 
 die stille\, für die weiße Zeit. In gewohnter Manier mischt Jütz alpine
 s Liedgut\, diesmal aus der Winterzeit\, mit kontemplativ-atmosphärischen
  Eigenkompositionen.\n\nIsa Kurz – Gesang\, Violine\, Akk.\, Hackbrett\,
  Daniel Woodtli – Trompete\, Flügelhorn\, Gesang\, Hackbrett\, Philipp
  Moll – Bass\, Gesang\n\nOrwa Saleh Ensemble (Syrien)\n\nWenn Jazz auf o
 rientalische Musik trifft und sich dem Rock zuwendet\, ist das der unverwe
 chselbare Klang des Orwa Saleh Ensemble. Das Projekt ist für den syrisch
 en Oud-Spieler und Komponisten Orwa Saleh Ausdruck der neuen österreichi
 schen Kultur. Seine progressive Oud verschmilzt mit der ausdrucksstarken S
 timme von Basma Jabr\, eingebettet in die persischen Klänge von Mahan Mi
 rarabs Gitarre\, bestimmt durch die Tiefe von Judith Ferstls Bass. Der kom
 plexe Rhythmus wird vom Schlagzeuger Sebastian Simsa in Harmonie gehalten.
  Die kongenialen Musiker*innen aus Syrien\, dem Iran und Österreich fü
 hren auf eine magische Reise zwischen orientalischem Jazz und Rock.\n\nOrw
 a Saleh – Oud\, Basma Jabr – Gesang\, Mahan Mirarab – Gitarren\, Jud
 ith Ferstl – Kontrabass\, Sebastian Simsa – Schlagzeug\n\nGarufa! (Uru
 guay\, Venezuela)\n\nDie Gebrüder Caireles sind eine Art Alter Ego von G
 arufa!. Sie sind weder zeit- noch ortsgebunden\, lebten ziemlich überall
  auf der Welt und in den verschiedensten Epochen und beherrschen mehrere S
 prachen. Sie können singen\, tanzen\, verschiedene Instrumente spielen 
 – können also alles\, was Garufa! braucht\, um ihre vielfältigen Ide
 en zu verwirklichen. Garufa! ist „Musik-Theater der anderen Art!“ - Mo
 ̈gen Sie Abenteuer? Dann sollten Sie südamerikanische Melancholie bei g
 leichzeitiger Ausgelassenheit und Komik sowie hervorragen-der Bühnenkuns
 t ausgezeichneter Solisten nicht versäumen! Das Setting eines Garufa!-Ko
 nzerts wird zum skurrilen Theaterstück.\n\nOscar Moreira – Gesang\, Ig
 nacio Giovanetti – Gitarre\, Gesang\, Felipe Medina – Bass\, Alejandro
  Loguercio – Violine\, Gesang\n\nIn Koproduktion mit [IG World Music Aus
 tria](http://www.worldmusicaustria.info)
LOCATION:
DTSTART:20211104T193000
DTEND:20211104T203000
END:VEVENT
END:VCALENDAR