BEGIN:VCALENDAR
VERSION:2.0
PRODID:spatie/icalendar-generator
BEGIN:VEVENT
UID:466e11c1-88a5-48ba-bba8-efababa711f1
DTSTAMP:20260423T234018Z
SUMMARY:Neuschnee (A): Der Lärm der Welt
DESCRIPTION:Die Wiener Band Neuschnee macht seit gut 15 Jahren einzigartige
  Crossover Kammermusik. Die treibende Kraft ihrer Musik sind die Stimme un
 d unbestechlich ehrliche Poesie Hans Wagners\, eingebettet in die Klang- u
 nd Ausdruckskraft eines kunstvoll arrangierten Streichquartetts.\n\nDas ne
 ue Album „Der Lärm der Welt\" ist möglicherweise auch gleichzeitig Neu
 schnees letztes Album. „Die Produktion dieses Albums hat viel Kraft\, Ze
 it und Ressourcen verschlungen. Ich bin an einem Scheideweg und kann nicht
  versprechen\, dass es noch einmal so ein Album geben wird. Neuschnee wird
  es aber sicher weiterhin in einer anderen Form geben\"\, erklärt Hans Wa
 gner\, Kopf der Band.\n\nUnd Hans Wagner will sich mit nicht weniger als e
 inem Meisterwerk verabschieden. „Die Ewigkeit ist lange\, besonders gege
 n Ende hin. Manchmal küsst sie deine Wange und flüstert\, das macht alle
 s Sinn“. Hans Wagner\, der nicht nur das Herz anatomisch gesehen auf der
  falschen Seite hat\, trägt seine Blutpumpe auf der Zunge und braucht sic
 h auch 2023 nicht hinter Ironie zu verstecken.\n\nDie musikalischen Einfl
 üsse der Band reichen von der Renaissancemusik bis zum Grunge-Rock und so
  spannen auch ihre Lieder einen weiten Bogen von kunstsinnig bis roh\, zer
 brechlich bis ungestüm-wild.\n\nHans Wagner – Stimme\, Gitarre\, Bass\,
  Klavier\, Julia Konvicka – Violine\, Emily Stewart – Violine\, Mihoko
  Ikezawa – Viola\, Bassynth\, Raimund Seidl – Cello\, Andi Senn – Sc
 hlagzeug\n\nhttps://neuschneemusik.org/
LOCATION:
DTSTART:20240516T193000
DTEND:20240516T203000
END:VEVENT
END:VCALENDAR