BEGIN:VCALENDAR
VERSION:2.0
PRODID:spatie/icalendar-generator
BEGIN:VEVENT
UID:42f9bdbd-cc9a-424e-8d4b-366f5757a796
DTSTAMP:20260421T094623Z
SUMMARY:Zelda Weber (A)
DESCRIPTION:Zelda Weber ist new on the block. Sie schreibt Texte über ihr 
 Leben und ist dabei schamlos ehrlich. Oder\, wie es Chris Cummins von FM4 
 auf den Punkt bringt: „Her voice and her songs have a lot of ooomph!“\
 n\nIhre Songs zeigen eine offensive Sensibilität\, erstaunliche Reife und
  Durchsetzungskraft\, die jedenfalls nicht alltäglich ist. Dazu diese hö
 chst erwachsene\, markante\, intensive Stimme. Mit den Produzenten Bob Gut
 deutsch und Patrick Pulsinger arbeitete sie im Studio an der Fertigstellun
 g ihres Debutalbums\, das letzten März erschienen ist. Sein Titel: „Cru
 de“. Zeldas Songs sind auf Fm4\, Superfly und Ö1 vertreten und sie ist 
 mit ihrer Band seit einem Jahr auf verschiedenen Bühnen Österreichs unte
 rwegs. In die Sargfabrik bringt sie ihr aktuelles Programm und einige neue
  Songs\, die auf dem zweiten Album erscheinen werden.\n\nZelda Weber – S
 timme\, Magdalena Plattner – Klavier\, Mina Franzke – Bass\, Til Van-d
 er-Vloedt – Schlagzeug\, Nora Parkan – Backing Vocals\n\nwww.zeldawebe
 r.com
LOCATION:
DTSTART:20240201T193000
DTEND:20240201T203000
END:VEVENT
END:VCALENDAR