BEGIN:VCALENDAR
VERSION:2.0
PRODID:spatie/icalendar-generator
BEGIN:VEVENT
UID:400ee1f3-966e-44db-ae26-4ce341daa678
DTSTAMP:20260420T092043Z
SUMMARY:Marema (SEN\, A)
DESCRIPTION:Eintritt: € 23 / € 16 (U 30)\n\nDie senegalische Musikerin 
 Marema wurde 2012 von Alpha Blondys ehemaligem Bandleader Mao Otayeck entd
 eckt\, der fortan ihre Songs arrangierte und produzierte. Im Jahr 2014 gel
 ang ihr mit der Single „Femme d’affaire“ der internationale Durchbru
 ch. Im Folgejahr gewann Sie den RFI Award als „beste weibliche Künstler
 in Afrikas“ und tourte durch ganz Afrika. Einladungen zu großen Festiva
 ls in Europa folgten. Sie spielte u.a. auf den Hauptbühnen vom Afrika Fes
 tival Würzburg\, Africa Oye in Liverpool oder dem Afro-Pfingsten in Winte
 rthur.\n\nIn ihren Songs erzählt sie von den starken Frauen ihrer Heimat 
 und setzt sich für soziale Gerechtigkeit ein. Musikalisch verbindet sie t
 raditionelle senegalesische Elemente mit Soul und Pop.\n\nSeit kurzem lebt
  Marema in Wien und hat hier eine neue Band formiert\, die nun im Rahmen v
 on Salam Orient ihr neues Programm präsentiert.\n\nMarema Fall – Stimme
 \, Gitarre\, Perkussion\, Marco Antonio da Costa - Gitarre\, Cheikh Ndao -
  Bass\, Jörg Mikula - Schlagzeug\, Waraba Diallo - Perkussion\n\nIn Kopro
 duktion mit dem Festival [Salam Orient](https://www.salam-orient.at/)
LOCATION:
DTSTART:20220330T193000
DTEND:20220330T203000
END:VEVENT
END:VCALENDAR