BEGIN:VCALENDAR
VERSION:2.0
PRODID:spatie/icalendar-generator
BEGIN:VEVENT
UID:38725e97-78ff-4c79-8bb5-c574e4b8ea60
DTSTAMP:20260420T090421Z
SUMMARY:AYNUR (Türkei): Kurdischer Weltmusik-Blues
DESCRIPTION:Aynur DOGAN - Stimme\, Baglama Neriman Günes AKALIN - Violine 
 Cemil KOCGÜN - Tembur\, Baglama Yasin BOYRAZ - Kaval Baris BOYRAZ - Perku
 ssion\, E-Bass Yilmaz YESILYURT - Perkussion \"Schon die Tatsache\, dass i
 ch überhaupt kurdisch singe\, ist ein Statement\"\, sagt sie. Aber: Aynur
  ist zunächst vor allem von der künstlerischen Kraft ihrer Sprache und M
 usik überzeugt. Die politische Brisanz ist gewissermaßen ein Element\, d
 em kurdische KünstlerInnen zwangsläufig zu begegnen haben. Aynur Dogan\,
  die sich als moderne Singer/Songwriterin versteht\, sorgt als eine der ma
 rkantesten kurdischen Stimmen der jungen Generation in der Türkei für ei
 nen neuen Ton. In ausgefeilten und sehr tanzbaren Arrangements zwischen Po
 p und traditioneller Musik kombiniert sie das musikalische Erbe ihrer Vorf
 ahren mit ihrer unglaublich starken Stimme. Zwar ist Aynur der eigenen kul
 turellen Tradition treu geblieben\, doch öffnet sie die Musik für neue E
 inflüsse\, für europäische und internationale Klänge\, modernisiert di
 e Überlieferungen respektvoll. Sie setzt eine breite Palette an Folk-Inst
 rumenten ein und poliert das althergebrachte Repertoire und ihre Kompositi
 onen durch eine bewährte Weltmusik-Ästhetik auf. Den spröden\, melancho
 lischen Balladen verleihen Bass und Perkussion einen luftigen Zug von Jazz
 . Geboren 1975 in der südöstlichen Provinz von Tunceli wuchs Aynur mit d
 er traditionellen Musik\, den Mythen und der Poesie der religiösen Minder
 heit der Aleviten auf\, die dort bis heute die Alltagskultur prägen. Im Z
 uge des Bürgerkriegs übersiedelte ihre Familie 1992 nach Istanbul\, wo s
 ie die renommierte Musikschule von Arif Sag besuchte\, der als Guru an der
  Langhalslaute Saz gilt\, dem türkischen Traditionsinstrument schlechthin
 . Mit ihren Alben \"Seyir\" und \"Kece Kurdan\" erlangte Aynur in den verg
 angenen Jahren weit über kurdische Kreise hinaus internationale Anerkennu
 ng. Sie zierte das Cover des britischen Magazins Folk Roots\, ebenso wie e
 ine Beilage der Londoner Times über den \"musikalischen Reichtum der Tür
 kei\". Bei uns ist Aynur einem breiteren Publikum vor allem durch den Musi
 kfilm \"Crossing the bridge\" bekannt geworden\, einem Porträt ihrer gege
 nwärtigen Heimat Istanbul vom vielfach prämierten Hamburger Regisseur Fa
 tih Akin. Kurdische Musik\, die vor gar nicht allzu langer Zeit in der Tü
 rkei gänzlich verboten war\, dringt mittlerweile bis ins Radio und Fernse
 hen vor. Und Aynur\, die als musikalisches Sprachrohr der Kurden gilt\, tr
 ägt das kurdische Erbe hinaus\, wohin auch immer sie ihre Konzerte rund u
 m den Globus führen. Nun macht sie drei Tage lang Station in Wien. Ein Ko
 nzertereignis der Sonderklasse!! In Kooperation mit dem Festival \"Salam O
 rient\" Achtung: Es gibt nur eine begrenzte Anzahl von Sitzplätzen! [Hör
 probe als mp3](../docs/veranstaltungen/sounds/0708/Track01.mp3)
LOCATION:
DTSTART:20071020T200000
DTEND:20071020T210000
END:VEVENT
END:VCALENDAR