BEGIN:VCALENDAR
VERSION:2.0
PRODID:spatie/icalendar-generator
BEGIN:VEVENT
UID:2b3715fd-7c8c-4a2d-8fed-fe1880bba41f
DTSTAMP:20260420T090931Z
SUMMARY:ANATOL STEFANET FOLK ORCHESTRA & TRIGON (Moldawien): Botschafter mo
 ldawischer Folk- und Jazzmusik
DESCRIPTION:Anatol Stefanet Folk Orchestra Anatol STEFANET - Viola Edgar ST
 EFANET - Akkordeon Andrei PROHNITCHI - Pan-Flöte Boghean VALERIU - Trompe
 te\, Kaval\, Okarina Croitoru ION - Bass Sandu SURA - Zimbal Gari TVERDOHL
 EB - Schlagzeug Dorel BURLACU - Harmonika Trigon Anatol STEFANET - Viola\,
  Stimme Dorel BURLACU - Keyboards\, Piano\, Harmonika Val BOGHEAN - Saxoph
 on\, Trompete\, Flügelhorn\, Flöte\, Kaval\, Stimme Gari TVERDOHLEB - Sc
 hlagzeug\, Perkussion\, Xylophon Die Musik Moldawiens stellt einen interes
 santen Übergang zwischen rumänischen und ukrainischen Formen dar\, mit b
 ulgarischen und russischen und osmanischen Einflüssen. Charakteristisch i
 st die Tradition der \"Lautari\"\, der fahrenden Hochzeitsmusiker. Einer s
 olchen Lautari-Familie entstammt der wohl wichtigste Botschafter moldawisc
 her Folk- und Jazzmusik\, Anatol Stefanet. Stefanet\, seines Zeichens auch
  Direktor des Ethno-Jazz-Festivals in Chisinau\, ist eine jener für ethni
 sche Musikszenen unschätzbaren Integrationsfiguren\, die vibrierende Volk
 stradition mit kosmopolitischem Jazz kurzschließen\, dabei siegreich jegl
 ichen Akademismus umschiffen\, mit kompositorischem Einfallsreichtum und P
 hantasie keine oberflächlichen Hybride nach dem Schema F kreieren\, sonde
 rn aufregende Kunst - und auf ihrem Instrument nie gehörte Virtuosität e
 rreichen. Dazu bedient er sich der Viola\, die bei den traditionellen Orch
 estern eher rhythmische Funktion innehatte. Er hingegen spielt sie als Sol
 oinstrument\, sowohl rhythmisch als auch harmonisch\, weil sie den schwach
 en bzw. Off-Beat unterstützt. In der Sargfabrik wird Stefanet zuerst mit 
 seinem Folk-Ensemble feurige moldawische Volkstradition auf höchstem spie
 lerischem Niveau darbieten und dann mit seinem Quartett Trigon eine der in
 teressantesten Ethno-Jazz-Projekte unserer Zeit vorstellen. Trigon heben d
 ie Unterschiede zwischen Melodie- und Rhythmusinstrumenten auf\, lassen ka
 mmermusikalische Sentenzen in Free-Jazz implodieren und setzen immer wiede
 r auf den archaischen Appeal traditioneller Formen rund ums Schwarze Meer.
  Besonders in Frankreich erregten Trigon seit ihrer CD \"Wedding In Jazz\"
  großes Aufsehen. Kein Wunder\, dass Anatol Stefanet eine gemeinsame musi
 kalische Sprache findet mit Leuten wie Enver Izmailov\, Theodosii Spassov 
 oder Okay Temiz\, also in der \"Liga der außergewöhnlichen Gentlemen\" d
 es zirkumpontischen Ethno-Jazz spielt. Im Rahmen von \"Balkan Fever 2006\"
  [Folk Orchestra: Hörprobe als mp3](../docs/veranstaltungen/sounds/06/Tra
 ck8.mp3) [Trigon: Hörprobe als mp3](../docs/veranstaltungen/sounds/06/Tra
 ck9.mp3)
LOCATION:
DTSTART:20060427T200000
DTEND:20060427T210000
END:VEVENT
END:VCALENDAR