BEGIN:VCALENDAR
VERSION:2.0
PRODID:spatie/icalendar-generator
BEGIN:VEVENT
UID:2941166d-6e83-4e43-a71f-a5809b7925b2
DTSTAMP:20260420T090647Z
SUMMARY:Ross Daly Trio (Griechenland)
DESCRIPTION:Wenn auf einen Musiker das Prädikat Kosmopolit zutrifft\, dann
  auf Ross Daly. Als Ire in England geboren\, wuchs er in Japan\, Kanada un
 d den USA auf. Nach einem klassischen Musikstudium in den USA\, zog es ihn
  nach Indien\, Afghanistan\, in die Türkei und nach Kreta. Schon geraume 
 Zeit bevor weithin von World Music die Rede war\, erforschte Daly mit unst
 illbarem Wissensdurst die Musikkulturen des Mittleren Ostens\, Zentralasie
 ns und Indiens. Dabei entdeckte er seine Begeisterung für die Kniegeige. 
 Er spielte die arabische Rabab\, die türkische Kemençe\, die bulgarische
  Gadulka oder die indische Sarangi\, doch am meisten faszinierte den weitg
 ereisten Musiker die kretische Lyra. Sie zog ihn ebenso in den Bann wie di
 e griechische Kultur im Allgemeinen. Die Insel Kreta ist auch seit 35 Jahr
 en sein Lebens- und Schaffensmittelpunkt.\nNach längerer Abwesenheit gast
 iert der Meister der Kniegeige endlich wiedereinmal in Wien. Im Trio präs
 entiert Daly gemeinsam mit Kelly Thoma (Lyra) und Giorgos Manolakis (Laute
 \, Gesang) eine Auswahl aktueller als auch älterer Kompositionen seines e
 inzigartigen originellen Repertoires zeitgenössischer modaler Musik. Zeit
 genössische modale Musik ist ein neues von Ross Daly kreiertes Genre\, da
 s von der modalen Musiktradition\, die man vor allem in Landstrichen von N
 ordafrika über den mediterranen Osten\, Zentralasien bis hin zu Indien un
 d Westchina findet\, inspiriert und beeinflusst ist. Die hypnotisierende I
 nteraktion der beiden Streichinstrumente (Lyra und Tarhu) von Ross Daly un
 d Kelly Thoma\, zusammen mit dem komplexen als auch oft explosiven Lautens
 piel des kretischen Virtuosen Giorgos Manolakis\, bietet dem Publikum eine
  einzigartige musikalische Erfahrung und begleitet es auf eine Traumreise 
 durch das Labyrinth der griechisch-orientalisch-mediterranen Klangwelt.\n\
 nRoss DALY - Lyra\, Rabab\, Kemençe\, Sarangi\nKelly THOMA - Lyra\, Tarhu
 \nGiorgos MANOLAKIS - Laute\, Stimme\n\nIn Koproduktion mit Salam Orient 1
 2
LOCATION:
DTSTART:20121107T200000
DTEND:20121107T210000
END:VEVENT
END:VCALENDAR