BEGIN:VCALENDAR
VERSION:2.0
PRODID:spatie/icalendar-generator
BEGIN:VEVENT
UID:260a5ce6-8d3f-45f0-b8d4-9911af23cfc2
DTSTAMP:20260420T091915Z
SUMMARY:SEVDA (Aserbaidschan): Die Stimme vom Kaspischen Meer
DESCRIPTION:Sevda ALEKPERZADEH - Stimme Emil MAMEDOV - Klavier Iskender ALE
 SKEROV - Perkussion Ruslan HUSEYNOV - Bass Malik MANSUROV - Tar Natik SHIR
 INOV - Nagara Sevda ist in Aserbaidschan ein Star\, bekannt aus Funk\, Fer
 nsehen und von unzähligen Auftritten - die Taxifahrer\, die Hausfrauen\, 
 die Schulkinder\, die Intellektuellen des Landes\, die Hafenarbeiter - all
 e kennen sie ihre Lieder. Mit ihrer zauberhaften dargebrachten Mischung de
 r Musiken aus Vorderasien\, Orient und Okzident und der einzigartigen Weis
 e\, wie sie diese verschiedenen Traditionen aufgreift und in Verbindung br
 ingt ist Sevda allerdings viel\, viel mehr als ein Popstar - sie schlägt 
 eine neue Seite der aserbaidschanischen Musikgeschichte auf. Ausgangspunkt
  ihrer Musik ist zumeist die traditionelle Volksmusik bzw. die klassische 
 Mugham-Musik\, ein auf einem komplexen musikalischen Modalsystem beruhende
 s Regelwerk. Doch sie riskiert neue Wege. Zu einem traditionellen Mugham-S
 tück lädt sie Tar und Kemancha ein\, zu einem anderen Stück Trompete un
 d Oud. Und dann wäre da noch diese Stimme: eine enorme Klarheit in den H
 öhenlagen\, dann nach dynamisch ausgewogenen Übergängen eine manchmal r
 auchige\, sinnliche Tiefe. Sevdas Stimme kann schwer mit einer anderen ver
 wechselt werden\, sie ist stark und dicht mit besonderen gutturalen Lauten
 . In ihrem Musikstil lässt sich Jazz erkennen\, Soul\, New Wave und sogar
  afrikanische Griots. Sevda singt mit der Intonation einer liebenden Seele
 \, mit einer Emotionalität\, die wirklich niemanden kalt lässt. Einige d
 er besten Interpreten der klassischen Mugham-Musik bilden Sevdas Begleitba
 nd\, deren vielfältiges Repertoire voller Überraschungen steckt und von 
 modern arrangierten\, ruhigen Mughamstücken über jazzige Balladen und af
 rokubanischen Rhythmen bis hin zu einzigartigen \"kaukasischen\" Salsaklä
 ngen reicht. Premiere In Koproduktion mit Salam Orient Foto: Rukha [Hörpr
 obe](../docs/veranstaltungen/sounds/0809/track14.swf) [(Hier gibt es den A
 dobe Flash Player als Gratisdownload)](http://www.adobe.com/de/products/fl
 ashplayer)
LOCATION:
DTSTART:20081105T200000
DTEND:20081105T210000
END:VEVENT
END:VCALENDAR