BEGIN:VCALENDAR
VERSION:2.0
PRODID:spatie/icalendar-generator
BEGIN:VEVENT
UID:22f73047-c4af-496f-8e7c-2086937d6cc2
DTSTAMP:20260421T174221Z
SUMMARY:Fräulein Hona (Österreich)
DESCRIPTION:Aufgepasst\, mit Fräulein Hona scharrt eine Band in den Startl
 öchern\, die durchaus das Potential hat\, in einem größeren Ausmaß auf
  sich aufmerksam zu machen. Fräulein Hona besitzt nämlich alles\, was ei
 ne Band von Klasse haben muss\, um Beachtung geschenkt zu bekommen\, Songs
 \, die unter die Haut gehen\, eindringliche Melodien\, die sich vom ersten
  Moment an in den Gehörgängen festsetzen um diese nicht mehr so schnell 
 zu verlassen und natürlich viel\, viel Tiefe und Gefühl. Was sich dem er
 sten Eindruck nach vielleicht musikalisch bekannt liest\, entpuppt sich le
 tztlich aber erfreulicherweise als ein sehr eigenständiger und gelungener
  Versuch einer Interpretation dessen\, was man unter dem Begriff Acoustic-
 Folk üblicherweise versteht . Die Songs von Fräulein Hona haben etwas se
 hr Ursprüngliches an sich\, etwas sehr Authentisches und Ungekünsteltes\
 , das in Sachen Tiefgang über das sonst so im Folk-Kontext Dargebotene do
 ch weit hinausgeht. Man hört\, dass hier vier Musikerinnen am Werken sind
 \, die eine exakte Vorstellung davon haben\, in welche Richtung sie gehen 
 wollen. Ihren Sound weit abseits jeder Pop-Massenware ansiedelnd\, gelingt
  es den vier jungen Damen auf sehr schöne und auch erfrischend dezente We
 ise\, ihre eigenen Akzente zu setzen\, sei es mit einem Mehr an klangliche
 r Vielfalt\, den mehrstimmigen Gesangsparts oder einfach mit den auffallen
 d abwechslungsreichen Arrangements.\nDie Formation versteckt sich nicht hi
 nter großen Gesten - deswegen fühlt sich Fräulein Hona bei Konzerten\, 
 wo man dem Publikum sehr nahe ist\, am wohlsten.\n\nKerstin ECKERT - Gesan
 g\, Gitarre\, Klavier\, Perkussion\, Melodica\nMelanie KÜNZ - Gesang\, Gi
 tarre\, Cello\, Perkussion\, Glockenspiel\, Melodica\nJohanna SCHMID - Ges
 ang\, Gitarre\, Klavier\, Cello\, Ukulele\, Perkussion\nJudith PRIELER - G
 esang\, Violine\, Glockenspiel\, Perkussion
LOCATION:
DTSTART:20150127T200000
DTEND:20150127T210000
END:VEVENT
END:VCALENDAR