BEGIN:VCALENDAR
VERSION:2.0
PRODID:spatie/icalendar-generator
BEGIN:VEVENT
UID:1df85c5c-5e3e-4e67-8451-6cdeacab1fc0
DTSTAMP:20260420T092036Z
SUMMARY:KÁLMÁN BALOGH & THE GIPSY CIMBALOM BAND (Ungarn): Universelle Tra
 dition
DESCRIPTION:Kálmán BALOGH - Cymbal Ferenc KOVÁCS - Violine\, Trompete P
 éter BEDE - Tenorsaxophon Frankie LÁTÓ - Violine Mihály GYÖRGY - Gita
 rre Csaba NOVÁK - Kontrabass Kálmán Baloghs Wurzeln gehen auf eine der 
 berühmtesten Musik-Dynastien der Roma zurück\, das Cymbalspiel hat er vo
 n seinem Onkel\, dem legendären Elemér Balogh\, gelernt. Das Cimbalom is
 t eine Art übergroßes Hackbrett\, das wie ein Vibraphon mit Schlägeln g
 espielt wird. Es besitzt ähnlich einem Klavier die perkussive Fähigkeit\
 , eine Band rhythmisch anzutreiben oder mit der Melodie zu führen. Und in
  Baloghs versierten Händen kann das Instrument beides gleichzeitig! Doch 
 der einzigartige Musiker ist in vielen verschiedenen Genres wie Klassik\, 
 Folk\, World\, Klezmer und Jazz daheim\, wuchs der gebürtige Ungar doch n
 icht nur mit der traditionellen Musik auf\, sondern hat zudem klassische M
 usik studiert. Seine Virtuosität paart sich dabei mit Verständnis und Re
 spekt seinem Erbe gegenüber. Mit seiner Band bringt er eine zeitgenössis
 che und einzigartig zukunftsweisende Note in diese altehrwürdige Traditio
 n ein\, die als homogenes neues Ganzes das Publikum verzaubert und inspiri
 ert. Musik\, die nicht länger traditionell ist\, sondern universell! Balo
 gh setzt eine legendäre europäische Musiktradition fort\, die alte Volks
 musiken aus (Ost) Europa mit den Elementen von Jazz verbindet\, sind die 
 Ähnlichkeiten zwischen den beiden doch in Improvisation und dem Ausdruck 
 von Emotion sofort offensichtlich\; eine Tradition\, die zurückgeht auf d
 ie Zusammenarbeit von Meistern wie dem Gypsy-Gitarristen Django Reinhardt 
 und dem Violinisten Stephane Grappelli. Er wirkte auf über 100 Aufnahmen 
 mit und ist heute vermutlich einer der gefragtesten Cimbalom-Musiker: The 
 Boston Globe nannte sein Spiel \"dämonisch\" und die New York Times in ei
 ner Kritik \"schillernd\". Der Hauptdarsteller in Hellers Gypsy Show \"Mag
 neten\" und der \"Csardas Show\" des Budapester Ensembles war zudem der mu
 sikalische Leiter und Arrangeur der Gypsy Spirit Show\, die bei ihrer Tour
  durch Nordamerika von Küste zu Küste bejubelt wurde. Mit freundlicher U
 nterstützung von Collegium Hungaricum Im Rahmen von Balkan Fever 08 [Hör
 probe als swf](../docs/veranstaltungen/sounds/08/Track06.swf)
LOCATION:
DTSTART:20080515T200000
DTEND:20080515T210000
END:VEVENT
END:VCALENDAR