BEGIN:VCALENDAR
VERSION:2.0
PRODID:spatie/icalendar-generator
BEGIN:VEVENT
UID:1ae74c2f-3455-49b4-9639-e76cb8efd0e4
DTSTAMP:20260420T090523Z
SUMMARY:Les Boukakes (Algerien\, Frankreich)
DESCRIPTION:\"Oh wow - Raï rockt! Die tunesisch-französisch-korsische Ban
 d fetzt ordentlich und weiß auch\, wie man eine elektrische Axt schwingt.
  Dabei bleiben die Jungs aber groovig-tanzbar - und schütteln lässige Me
 lodien aus dem Ärmel. Leckerer Orient-Okzident-Cocktail.\" (Freizeit-Kuri
 er\, 12. Juli 2008)\nWo Raï Altmeister Cheb Khaled orientalische Klänge\
 , Rai oder Gnawa geschickt mit Reggae und Funk mischt\, setzen die fünf M
 usiker von Les Boukakes auf schnellere und jüngere Zutaten wie Rock und e
 lektronische Sounds\, um einen völlig neuen\, temporeichen und energiegel
 adenen Stil zu kreieren: Raï ’n’ Rock. Mit dieser perfekten Symbiose 
 aus Orient und Okzident touren sie durch ganz Europa und teilen sich die B
 ühnen mit Größen wie Manu Chao\, Natacha Atlas und Rachid Taha. Hervorg
 egangen sind sie aus einem Straßenmusiker-Trio aus Montpellier. Die Mitgl
 ieder weisen Stammbäume auf\, die in der Provence und Nordfrankreich\, in
  Algerien\, Tunesien und Korsika wurzeln. Und während der algerische Raï
  dramatisch an Popularität in Europa verloren hat\, zaubern diese sieben 
 Musiker eine neue Legierung aus dem Hut: Rock-Arabesken winden sich um sch
 were Gitarren\, dreckiger Reggae\, polternde Gnawa-Riffs und melodischer M
 aghreb-Rock wechseln sich ab. Dazu gibt es die erdige Hammondorgel\, dann 
 kreist mal ein Akkordeon fast im Drehleier-Sound und auch lyrische Folkpas
 sagen mit Akustikgitarren kommen zum Zuge. Heraus kommt ein schlagfertiger
  Raï ‘n‘ Roll mit rotzigem\, nasalem Leadgesang des absolut überzeug
 enden Frontmann Adil Smaalo\, arabischer Laute und Flöten\, anachronistis
 chen Tastenklängen und Stromgitarren. Starke Songs\, tanzbare Rhythmen\, 
 eingängige Hooklines machen Les Boukakes zu einer der mitreißendsten Ban
 ds der europäischen Festival-Szene\, die mit ihrer Musik jedes Publikum i
 n Wallung bringt. Musik zum Tanzen und Abrocken.\n\nAdil SMAALO - Stimme\n
 Eric MANCHON - Samplers\, Derbouka\nThierry CHADELLE - Gitarre\, Mandola\n
 Pascal BONNAFOUS - Schlagzeug\, Gumbri\nBubulle DURAFOURD - Bass\n\nDj Han
 s Kulisch\n\nIn Koproduktion mit Salam Orient
LOCATION:
DTSTART:20131018T210000
DTEND:20131018T220000
END:VEVENT
END:VCALENDAR