BEGIN:VCALENDAR
VERSION:2.0
PRODID:spatie/icalendar-generator
BEGIN:VEVENT
UID:0a98fc77-0191-4db5-9be4-3ef6b01f769d
DTSTAMP:20260420T215113Z
SUMMARY:NACHBARIN - Julia Lacherstorfer (A): [a diverse narrative]
DESCRIPTION:Sitzplätze sind ausverkauft - es gibt noch Rest-Stehplätze an
  der Abendkasse!\n\nNach SPINNERIN\, dem ersten Projekt von Julia Lacherst
 orfer\, das sich bewusst weiblichen Narrativen zuwendet\, präsentiert die
  vielseitige Musikerin das transkulturelle Musikprojekt NACHBARIN [a diver
 se narrative]. Lacherstorfer ist stets auf der Suche nach Perspektiven und
  Erkenntnissen außerhalb der gewohnten Bubbles und Filterblasen. \"... ge
 nau das interessiert mich. Was meine Nachbar:innen erleben\, ob sie nun di
 rekt neben mir wohnen\, oder viele Kilometer weit weg. Ob sie ihre Wurzeln
  hier in Österreich haben\, oder anderswo. Rund ein Viertel meiner öster
 reich:ischen Nachbar:innen haben eine Migrationsbiografie\, von ihnen will
  ich lernen\, anstatt über sie zu hören.\"\n\nDie von Lacherstorfer hör
 bar gemachten Lebensgeschichten erzählen etwa von der Erfahrung mit psych
 ischer Erkrankung\, Fluchterfahrungen oder allgegenwärtigem Alltagsrassis
 mus.\n\nNACHBARIN [a diverse narrative] ist ein transkulturelles Musikproj
 ekt\, das unterschiedliche Lebensrealitäten in Musik übersetzt\, mit den
  handwerklichen Mitteln von dialogischen Interviews\, Komposition\, Film u
 nd Fotografie. Musik kann so viele Brücken bauen. Sie kann uns Trost spen
 den und halten. Sie kann uns wachrütteln und ihre Finger in die offenen W
 unden legen\, sodass wir endlich dorthin fühlen\, wo es schmerzt. Ob im K
 ollektiv\, oder individuell. Sichtweisen werden weiter\, Narrative werden 
 vielfältiger. Und dann passiert Veränderung.\n\nJulia Lacherstorfer - Ko
 nzept\, Komposition\, Violine\, Synth\, Harmonium\, Stimme\, Sophie Abraha
 m - Cello\, Stimme\, Miriam Adefris - Harfe\, Stimme\, Lukas Froschauer - 
 Klangregie
LOCATION:
DTSTART:20230420T193000
DTEND:20230420T203000
END:VEVENT
END:VCALENDAR