BEGIN:VCALENDAR
VERSION:2.0
PRODID:spatie/icalendar-generator
BEGIN:VEVENT
UID:08a6ce30-126e-408f-9a01-30f6f6ff0105
DTSTAMP:20260421T082343Z
SUMMARY:Le Cri du Caire (FRA): Salam Music
DESCRIPTION:Peter Corsers mit Zirkularatmung bespieltes Saxophon und die 
 „barocken“ Saiten von Karsten Hochapfels Cello finden ihre Antwort in 
 der ergreifenden Stimme von Abdullah Miniawy\, einem jungen ägyptischen D
 ichter und Sänger\, der nach Freiheit und Gerechtigkeit strebt. Sein hypn
 otischer Sufi-Gesang\, zwischen eindringlich sanftem Flüstern und leidens
 chaftlich geschriener Poesie\, führt das Publikum in eine intensive Tranc
 e. Spiritualität und Freiheit strahlen durch seine Musik\, die die Hoffnu
 ngen der Unterdrückten gegen politische\, soziale und religiöse Unterdr
 ückung trägt.\n\nAuf halbem Weg zwischen Sufi-Poesie\, Jazz und Spoken-W
 ord erschafft Le Cri du Caire ein metaphorisches Universum\, das Identitä
 ten und Grenzen überwindet. Ein starkes\, berührendes Musikerlebnis!\n\n
 Abdullah Miniawy - Stimme\, Text\, Komposition\, Peter Corser - Saxophone\
 , Klarinette\, Komposition\, Karsten Hochapfel - Cello\n\nhttps://lecriduc
 aire.bandcamp.com/album/le-cri-du-caire-2\n\nIm Koproduktion mit: [Salam M
 usic](https://www.salam-music.at/)
LOCATION:
DTSTART:20240420T193000
DTEND:20240420T203000
END:VEVENT
END:VCALENDAR