BEGIN:VCALENDAR
VERSION:2.0
PRODID:spatie/icalendar-generator
BEGIN:VEVENT
UID:08399d7f-486c-4e8f-be64-ef51c4fd8db5
DTSTAMP:20260420T214914Z
SUMMARY:Constantinople & Ablaye Cissoko (SEN\, IRN\, CAN): Wandernde Gärte
 n
DESCRIPTION:„At the same time extremely poetic\, inspired and inspiring\,
  hypnotic.” (La Presse\, Canada)\n\nDie Begegnung zwischen dem persische
 n Musiker Kiya Tabassian und dem Griot Ablaye Cissoko aus dem Senegal war 
 von Anfang an poetisch. In dem facettenreichen Programm „Wandernde Gärt
 en“ treffen persische Modi auf Klänge und Geschichten aus dem alten Rei
 ch Mali\, Streicher auf Stimmen und die samtenen Klänge von Setar und Kor
 a.\n\nSeit jeher war die Weitergabe von Geschichte/n durch den Barden\, de
 n Troubadour\, den Griot von großer Bedeutung. Als Boten und Friedensstif
 ter zugleich waren sie das Bindeglied zu den Naturgewalten\, dem Gedächtn
 is der Alten. Auch die Geschichten aus dem Mandinka-Königreich wurden bis
  heute durch die Familien der Griots lebendig gehalten - Ablaye Cissoko is
 t einer ihrer berühmtesten Vertreter.\n\nHeute machen diese Freidenker un
 d Reisenden die Welt zu ihrem Garten - wie die ewig ziehenden Vögel. Dies
 es Durchqueren gemeinsamer Regionen der Vorstellungskraft ist wie ein tief
 es Durchatmen vor dem unaufhaltsamen Marsch der Zeit und der Welt.\n\nAbla
 ye Cissoko – Kora\, Stimme\, Kiya Tabassian – Setar\, Stimme\, Patrick
  Graham – Perkussion
LOCATION:
DTSTART:20250214T193000
DTEND:20250214T203000
END:VEVENT
END:VCALENDAR