BEGIN:VCALENDAR
VERSION:2.0
PRODID:spatie/icalendar-generator
BEGIN:VEVENT
UID:005ace71-9662-488f-948c-f71f12dc02a6
DTSTAMP:20260424T142537Z
SUMMARY:Nouvelle Cuisine (AT)
DESCRIPTION:Eintritt: € 25 / 17\,50 (U30)\n\nNouvelle Cuisine - Österrei
 chs längst dienende Bigband modernen Zuschnitts ist gelebte Legende. Dass
  die Küche der beiden Chefs Christian Mühlbacher und Christoph Cech nach
  wie vor „neu“ ist\, beweisen die beiden umtriebigen Komponisten mit i
 hrem 2020er Programm\, in dem sie es sich nicht nehmen lassen\, neben Hits
  aus der 30jährigen Geschichte der Band neue Werke in der Kombination von
  orchestralem Bläsergeschehen mit unwiderstehlicher Groove\, für die die
  Band so geliebt wird\, zu präsentieren. Ob das Jazz\, Rock oder whatever
  ist fragt da keiner mehr\, es ist eben Nouvelle Cuisine. In den Sections 
 der Bigband trifft sich alt und jung\, aber in jedem Fall eine Auswahl der
  Besten.\n\nWie hieß es schon 1989 – Enjoy it !\n\nFabian Rucker\, Andi
  See\, Chris Kronreif\, Manfred Balasch\, Florian Fennes\, Astrid Wiesinge
 r – Holzblasinstrumente\, Andi Pranzl\, Aneel Soomary\, Martin Ohrwalder
 \, Walter Fend – Trompeten\, Robert Bachner\, Phil Yaeger\, Gerald Pöt
 tinger\, Alex Rindberger – Posaunen\, Christoph Cech\, Andreas Erd\, Tib
 or Kövesdi\, Herbert Pirker\, Christian Mühlbacher – Rhythmus
LOCATION:
DTSTART:20211013T193000
DTEND:20211013T203000
END:VEVENT
END:VCALENDAR